BEGIN:VCALENDAR
VERSION:2.0
PRODID:-//Radio Sentimiento Latino - ECPv6.12.0.1//NONSGML v1.0//EN
CALSCALE:GREGORIAN
METHOD:PUBLISH
X-WR-CALNAME:Radio Sentimiento Latino
X-ORIGINAL-URL:https://sentimientolatino.com
X-WR-CALDESC:Eventos para Radio Sentimiento Latino
REFRESH-INTERVAL;VALUE=DURATION:PT1H
X-Robots-Tag:noindex
X-PUBLISHED-TTL:PT1H
BEGIN:VTIMEZONE
TZID:America/Guayaquil
BEGIN:STANDARD
TZOFFSETFROM:-0500
TZOFFSETTO:-0500
TZNAME:-05
DTSTART:20220101T000000
END:STANDARD
END:VTIMEZONE
BEGIN:VEVENT
DTSTART;TZID=America/Guayaquil:20220219T160000
DTEND;TZID=America/Guayaquil:20220219T220000
DTSTAMP:20260419T202009
CREATED:20220207T163605Z
LAST-MODIFIED:20220207T163605Z
UID:5478-1645286400-1645308000@sentimientolatino.com
SUMMARY:BAJO SUEÑOS EN MACHALA
DESCRIPTION:Reactiva la música Machala te invita a este gran evento de Rock\, con bandas locales\, como Decabulla\, Cazadores de Quimeras\, Zona 56 y La Vieja Escuela este 19 de febrero\, con un after party de Música Electrónica\, todo desde las 16:00. PRE – VENTA A $20
URL:https://sentimientolatino.com/index.php/evento/bajo-suenos-en-machala/
LOCATION:Casona de Campo Machala\, Buenavista entre Callejón Los Mangos y Los Almendros\, Machala\, EL Oro\, 070204\, Ecuador
CATEGORIES:Eventos
ATTACH;FMTTYPE=image/jpeg:https://sentimientolatino.com/wp-content/uploads/2022/02/bajo-suenos-en-machala-18.jpeg
ORGANIZER;CN="Reactiva la M%C3%BAsica Machala":MAILTO:frenanip@gmail.com
END:VEVENT
END:VCALENDAR